BEGIN:VCALENDAR
VERSION:2.0
PRODID:-//Choeur et Orchestre de Chambre Telemann - ECPv6.15.17//NONSGML v1.0//EN
CALSCALE:GREGORIAN
METHOD:PUBLISH
X-ORIGINAL-URL:https://telemann.fr
X-WR-CALDESC:Évènements pour Choeur et Orchestre de Chambre Telemann
REFRESH-INTERVAL;VALUE=DURATION:PT1H
X-Robots-Tag:noindex
X-PUBLISHED-TTL:PT1H
BEGIN:VTIMEZONE
TZID:Europe/Paris
BEGIN:DAYLIGHT
TZOFFSETFROM:+0100
TZOFFSETTO:+0200
TZNAME:CEST
DTSTART:20250330T010000
END:DAYLIGHT
BEGIN:STANDARD
TZOFFSETFROM:+0200
TZOFFSETTO:+0100
TZNAME:CET
DTSTART:20251026T010000
END:STANDARD
BEGIN:DAYLIGHT
TZOFFSETFROM:+0100
TZOFFSETTO:+0200
TZNAME:CEST
DTSTART:20260329T010000
END:DAYLIGHT
BEGIN:STANDARD
TZOFFSETFROM:+0200
TZOFFSETTO:+0100
TZNAME:CET
DTSTART:20261025T010000
END:STANDARD
BEGIN:DAYLIGHT
TZOFFSETFROM:+0100
TZOFFSETTO:+0200
TZNAME:CEST
DTSTART:20270328T010000
END:DAYLIGHT
BEGIN:STANDARD
TZOFFSETFROM:+0200
TZOFFSETTO:+0100
TZNAME:CET
DTSTART:20271031T010000
END:STANDARD
END:VTIMEZONE
BEGIN:VEVENT
DTSTART;TZID=Europe/Paris:20260312T203000
DTEND;TZID=Europe/Paris:20260312T220000
DTSTAMP:20260424T192026
CREATED:20260123T195831Z
LAST-MODIFIED:20260227T193655Z
UID:3196-1773347400-1773352800@telemann.fr
SUMMARY:Concert à La Garenne Colombes
DESCRIPTION:Jeudi 12 mars 2026 – 20h30\nThéâtre de La Garenne-Colombes\n\nSAINT-SAËNS \nIntroduction et rondo capriccioso \nConcerto pour violon No. 1 \n  \nBEETHOVEN \nSymphonie No. 7 \n\nViolon : Marie-Laure Goudenhooft \nDirection : Alexis Delattre \n  \nEntrée libre – libre participation
URL:https://telemann.fr/programmation/concert-a-la-garenne-colombes-20260312/
LOCATION:Théâtre de La Garenne Colombes\, 22 avenue de Verdun\, La Garenne-Colombes\, 92250\, France
CATEGORIES:Concert choeur et orchestre
ATTACH;FMTTYPE=image/png:https://telemann.fr/wp-content/uploads/2026/01/Affiche_Concert-12-03-2026.png
END:VEVENT
BEGIN:VEVENT
DTSTART;TZID=Europe/Paris:20260329T150000
DTEND;TZID=Europe/Paris:20260329T163000
DTSTAMP:20260424T192026
CREATED:20260123T195818Z
LAST-MODIFIED:20260227T193701Z
UID:3197-1774796400-1774801800@telemann.fr
SUMMARY:Concert à Paris
DESCRIPTION:Dimanche 29 mars 2026 – 15h\nNotre-Dame du Perpétuel Secours – Paris\n55\, boulevard de Ménilmontant\, 75011 Paris \n\nSAINT-SAËNS \nIntroduction et rondo capriccioso \nConcerto pour violon No. 1 \n  \nBEETHOVEN \nSymphonie No. 7 \n\nViolon : Marie-Laure Goudenhooft \nDirection : Alexis Delattre \n  \nEntrée libre – libre participation
URL:https://telemann.fr/programmation/concert-a-paris-20260329/
LOCATION:Notre-Dame du Perpétuel-Secours\, 55\, boulevard de Ménilmontant\, Paris\, 75011\, France
CATEGORIES:Concert choeur et orchestre
ATTACH;FMTTYPE=image/png:https://telemann.fr/wp-content/uploads/2026/01/Affiche_Concert-29-03-2026.png
END:VEVENT
END:VCALENDAR