BEGIN:VCALENDAR
VERSION:2.0
PRODID:-//Choeur et Orchestre de Chambre Telemann - ECPv6.15.17//NONSGML v1.0//EN
CALSCALE:GREGORIAN
METHOD:PUBLISH
X-WR-CALNAME:Choeur et Orchestre de Chambre Telemann
X-ORIGINAL-URL:https://telemann.fr
X-WR-CALDESC:Évènements pour Choeur et Orchestre de Chambre Telemann
REFRESH-INTERVAL;VALUE=DURATION:PT1H
X-Robots-Tag:noindex
X-PUBLISHED-TTL:PT1H
BEGIN:VTIMEZONE
TZID:UTC
BEGIN:STANDARD
TZOFFSETFROM:+0000
TZOFFSETTO:+0000
TZNAME:UTC
DTSTART:20250101T000000
END:STANDARD
END:VTIMEZONE
BEGIN:VEVENT
DTSTART;TZID=UTC:20260118T153000
DTEND;TZID=UTC:20260118T170000
DTSTAMP:20260424T223414
CREATED:20251005T164534Z
LAST-MODIFIED:20251005T165001Z
UID:3182-1768750200-1768755600@telemann.fr
SUMMARY:Concert à La Garenne Colombes
DESCRIPTION:Au programme de ce concert\nMOZART \nExsultate\, Jubilate \nMesse “pour la Sainte Trinité” KV 167 \nVIVALDI \nMagnificat en ré majeur RV 610 \n  \nSolistes : Sandrine Marchina (Soprano)\, Bérénice Bernicchia (alto) \nDirection : Yoko Foechterle\, Alexis Delattre
URL:https://telemann.fr/programmation/concert-a-la-garenne-colombes-2026-01-18/
LOCATION:Église Saint-Urbain\, Place de la Liberté\, La Garenne-Colombes\, 75012\, France
CATEGORIES:Concert choeur et orchestre
ATTACH;FMTTYPE=image/png:https://telemann.fr/wp-content/uploads/2025/10/Affiche_Concert_29-02-2024.png
END:VEVENT
END:VCALENDAR