BEGIN:VCALENDAR
VERSION:2.0
PRODID:-//Choeur et Orchestre de Chambre Telemann - ECPv6.15.17//NONSGML v1.0//EN
CALSCALE:GREGORIAN
METHOD:PUBLISH
X-ORIGINAL-URL:https://telemann.fr
X-WR-CALDESC:Évènements pour Choeur et Orchestre de Chambre Telemann
REFRESH-INTERVAL;VALUE=DURATION:PT1H
X-Robots-Tag:noindex
X-PUBLISHED-TTL:PT1H
BEGIN:VTIMEZONE
TZID:Europe/Paris
BEGIN:DAYLIGHT
TZOFFSETFROM:+0100
TZOFFSETTO:+0200
TZNAME:CEST
DTSTART:20250330T010000
END:DAYLIGHT
BEGIN:STANDARD
TZOFFSETFROM:+0200
TZOFFSETTO:+0100
TZNAME:CET
DTSTART:20251026T010000
END:STANDARD
BEGIN:DAYLIGHT
TZOFFSETFROM:+0100
TZOFFSETTO:+0200
TZNAME:CEST
DTSTART:20260329T010000
END:DAYLIGHT
BEGIN:STANDARD
TZOFFSETFROM:+0200
TZOFFSETTO:+0100
TZNAME:CET
DTSTART:20261025T010000
END:STANDARD
BEGIN:DAYLIGHT
TZOFFSETFROM:+0100
TZOFFSETTO:+0200
TZNAME:CEST
DTSTART:20270328T010000
END:DAYLIGHT
BEGIN:STANDARD
TZOFFSETFROM:+0200
TZOFFSETTO:+0100
TZNAME:CET
DTSTART:20271031T010000
END:STANDARD
END:VTIMEZONE
BEGIN:VEVENT
DTSTART;TZID=Europe/Paris:20260607T160000
DTEND;TZID=Europe/Paris:20260607T173000
DTSTAMP:20260424T161749
CREATED:20260325T164706Z
LAST-MODIFIED:20260325T182925Z
UID:3335-1780848000-1780853400@telemann.fr
SUMMARY:Concert à Courbevoie
DESCRIPTION:
URL:https://telemann.fr/programmation/concert-a-courbevoie-20260607/
LOCATION:Église protestante unie de Courbevoie\, 16 Rue Kilford\, Courbevoie\, 92400\, France
CATEGORIES:Concert orchestral
ATTACH;FMTTYPE=image/png:https://telemann.fr/wp-content/uploads/2026/03/Affiche_Concert-07-06-2026-scaled.png
END:VEVENT
END:VCALENDAR